BEGIN:VCALENDAR
VERSION:2.0
PRODID:-//Brandon Main Street  - ECPv6.5.0.1//NONSGML v1.0//EN
CALSCALE:GREGORIAN
METHOD:PUBLISH
X-WR-CALNAME:Brandon Main Street 
X-ORIGINAL-URL:https://brandonmainstreet.com
X-WR-CALDESC:Events for Brandon Main Street 
REFRESH-INTERVAL;VALUE=DURATION:PT1H
X-Robots-Tag:noindex
X-PUBLISHED-TTL:PT1H
BEGIN:VTIMEZONE
TZID:UTC
BEGIN:STANDARD
TZOFFSETFROM:+0000
TZOFFSETTO:+0000
TZNAME:UTC
DTSTART:20240101T000000
END:STANDARD
END:VTIMEZONE
BEGIN:VEVENT
DTSTART;VALUE=DATE:20240817
DTEND;VALUE=DATE:20240818
DTSTAMP:20260422T085837
CREATED:20240621T195957Z
LAST-MODIFIED:20240621T195957Z
UID:788-1723852800-1723939199@brandonmainstreet.com
SUMMARY:Lauren Daigle
DESCRIPTION:
URL:https://brandonmainstreet.com/event/lauren-daigle/
LOCATION:Brandon Amphitheater\, MS
END:VEVENT
BEGIN:VEVENT
DTSTART;VALUE=DATE:20240816
DTEND;VALUE=DATE:20240817
DTSTAMP:20260422T085837
CREATED:20240621T195928Z
LAST-MODIFIED:20240621T195928Z
UID:786-1723766400-1723852799@brandonmainstreet.com
SUMMARY:Jordan Davis
DESCRIPTION:
URL:https://brandonmainstreet.com/event/jordan-davis/
LOCATION:Brandon Amphitheater\, MS
END:VEVENT
BEGIN:VEVENT
DTSTART;TZID=UTC:20240815T180000
DTEND;TZID=UTC:20240815T220000
DTSTAMP:20260422T085837
CREATED:20240621T190141Z
LAST-MODIFIED:20240621T201202Z
UID:748-1723744800-1723759200@brandonmainstreet.com
SUMMARY:042 Nights
DESCRIPTION:
URL:https://brandonmainstreet.com/event/042-nights-2/
LOCATION:Brandon Main Street
ORGANIZER;CN="Brandon Main Street":MAILTO:info@brandonmainstreet.com
END:VEVENT
BEGIN:VEVENT
DTSTART;TZID=UTC:20240725T180000
DTEND;TZID=UTC:20240725T220000
DTSTAMP:20260422T085837
CREATED:20240621T185858Z
LAST-MODIFIED:20240621T201219Z
UID:743-1721930400-1721944800@brandonmainstreet.com
SUMMARY:042 Nights
DESCRIPTION:
URL:https://brandonmainstreet.com/event/042-nights/
LOCATION:Brandon Main Street
ORGANIZER;CN="Brandon Main Street":MAILTO:info@brandonmainstreet.com
END:VEVENT
BEGIN:VEVENT
DTSTART;VALUE=DATE:20240721
DTEND;VALUE=DATE:20240722
DTSTAMP:20260422T085837
CREATED:20240621T201822Z
LAST-MODIFIED:20240621T201822Z
UID:800-1721520000-1721606399@brandonmainstreet.com
SUMMARY:Hometown Bridal Expo
DESCRIPTION:*a Brandon community event
URL:https://brandonmainstreet.com/event/hometown-bridal-expo/
LOCATION:The Vault
END:VEVENT
BEGIN:VEVENT
DTSTART;VALUE=DATE:20240718
DTEND;VALUE=DATE:20240719
DTSTAMP:20260422T085837
CREATED:20240621T195902Z
LAST-MODIFIED:20240621T195902Z
UID:784-1721260800-1721347199@brandonmainstreet.com
SUMMARY:Parker McCollum
DESCRIPTION:
URL:https://brandonmainstreet.com/event/parker-mccollum/
LOCATION:Brandon Amphitheater\, MS
END:VEVENT
BEGIN:VEVENT
DTSTART;VALUE=DATE:20240703
DTEND;VALUE=DATE:20240704
DTSTAMP:20260422T085837
CREATED:20240621T201644Z
LAST-MODIFIED:20240621T201644Z
UID:798-1719964800-1720051199@brandonmainstreet.com
SUMMARY:Freedom Fest
DESCRIPTION:*a Brandon community event
URL:https://brandonmainstreet.com/event/freedom-fest/
LOCATION:Brandon Amphitheater\, MS
END:VEVENT
BEGIN:VEVENT
DTSTART;VALUE=DATE:20240629
DTEND;VALUE=DATE:20240630
DTSTAMP:20260422T085837
CREATED:20240621T195625Z
LAST-MODIFIED:20240621T201304Z
UID:782-1719619200-1719705599@brandonmainstreet.com
SUMMARY:Bert Kreischer
DESCRIPTION:
URL:https://brandonmainstreet.com/event/bert-kreischer/
LOCATION:Brandon Amphitheater\, MS
END:VEVENT
BEGIN:VEVENT
DTSTART;VALUE=DATE:20240627
DTEND;VALUE=DATE:20240628
DTSTAMP:20260422T085837
CREATED:20240621T195331Z
LAST-MODIFIED:20240621T201319Z
UID:778-1719446400-1719532799@brandonmainstreet.com
SUMMARY:Jamey Johnson
DESCRIPTION:
URL:https://brandonmainstreet.com/event/jamey-johnson/
LOCATION:Brandon Amphitheater\, MS
END:VEVENT
BEGIN:VEVENT
DTSTART;VALUE=DATE:20240207
DTEND;VALUE=DATE:20240209
DTSTAMP:20260422T085837
CREATED:20240621T202516Z
LAST-MODIFIED:20240621T202754Z
UID:812-1707264000-1707436799@brandonmainstreet.com
SUMMARY:Princess Ball
DESCRIPTION:*a Brandon community event
URL:https://brandonmainstreet.com/event/princess-ball/
LOCATION:City Hall
END:VEVENT
END:VCALENDAR